BEGIN:VCALENDAR
VERSION:2.0
PRODID:-//Bertolt-Brecht-Oberschule - ECPv6.14.1//NONSGML v1.0//EN
CALSCALE:GREGORIAN
METHOD:PUBLISH
X-WR-CALNAME:Bertolt-Brecht-Oberschule
X-ORIGINAL-URL:https://www.brecht-oberschule.de
X-WR-CALDESC:Veranstaltungen für Bertolt-Brecht-Oberschule
REFRESH-INTERVAL;VALUE=DURATION:PT1H
X-Robots-Tag:noindex
X-PUBLISHED-TTL:PT1H
BEGIN:VTIMEZONE
TZID:Europe/Berlin
BEGIN:DAYLIGHT
TZOFFSETFROM:+0100
TZOFFSETTO:+0200
TZNAME:CEST
DTSTART:20220327T010000
END:DAYLIGHT
BEGIN:STANDARD
TZOFFSETFROM:+0200
TZOFFSETTO:+0100
TZNAME:CET
DTSTART:20221030T010000
END:STANDARD
END:VTIMEZONE
BEGIN:VEVENT
DTSTART;VALUE=DATE:20221005
DTEND;VALUE=DATE:20221006
DTSTAMP:20260425T141400
CREATED:20220915T121817Z
LAST-MODIFIED:20220915T121817Z
UID:7849-1664928000-1665014399@www.brecht-oberschule.de
SUMMARY:Klassenarbeit Deutsch 7.12
DESCRIPTION:
URL:https://www.brecht-oberschule.de/termin/klassenarbeit-deutsch-7-12-3
CATEGORIES:7. Jahrgang
END:VEVENT
BEGIN:VEVENT
DTSTART;VALUE=DATE:20221005
DTEND;VALUE=DATE:20221006
DTSTAMP:20260425T141400
CREATED:20220915T122242Z
LAST-MODIFIED:20220915T122242Z
UID:7860-1664928000-1665014399@www.brecht-oberschule.de
SUMMARY:Klassenarbeit Deutsch 7.23/24
DESCRIPTION:
URL:https://www.brecht-oberschule.de/termin/klassenarbeit-deutsch-7-23-24
CATEGORIES:7. Jahrgang
END:VEVENT
BEGIN:VEVENT
DTSTART;VALUE=DATE:20221005
DTEND;VALUE=DATE:20221006
DTSTAMP:20260425T141400
CREATED:20220921T091539Z
LAST-MODIFIED:20220921T091539Z
UID:7918-1664928000-1665014399@www.brecht-oberschule.de
SUMMARY:Klassenarbeit Englisch 9.1 + 9.2
DESCRIPTION:
URL:https://www.brecht-oberschule.de/termin/klassenarbeit-englisch-9-1-9-2-2
CATEGORIES:9. Jahrgang
END:VEVENT
END:VCALENDAR