BEGIN:VCALENDAR
VERSION:2.0
PRODID:-//Bertolt-Brecht-Oberschule - ECPv6.14.1//NONSGML v1.0//EN
CALSCALE:GREGORIAN
METHOD:PUBLISH
X-WR-CALNAME:Bertolt-Brecht-Oberschule
X-ORIGINAL-URL:https://www.brecht-oberschule.de
X-WR-CALDESC:Veranstaltungen für Bertolt-Brecht-Oberschule
REFRESH-INTERVAL;VALUE=DURATION:PT1H
X-Robots-Tag:noindex
X-PUBLISHED-TTL:PT1H
BEGIN:VTIMEZONE
TZID:Europe/Berlin
BEGIN:DAYLIGHT
TZOFFSETFROM:+0100
TZOFFSETTO:+0200
TZNAME:CEST
DTSTART:20220327T010000
END:DAYLIGHT
BEGIN:STANDARD
TZOFFSETFROM:+0200
TZOFFSETTO:+0100
TZNAME:CET
DTSTART:20221030T010000
END:STANDARD
END:VTIMEZONE
BEGIN:VEVENT
DTSTART;VALUE=DATE:20221010
DTEND;VALUE=DATE:20221011
DTSTAMP:20260425T141356
CREATED:20220828T140430Z
LAST-MODIFIED:20220828T140450Z
UID:7728-1665360000-1665446399@www.brecht-oberschule.de
SUMMARY:Klassenarbeit Mathematik 9.2
DESCRIPTION:
URL:https://www.brecht-oberschule.de/termin/klassenarbeit-mathematik-9-2-12
CATEGORIES:9. Jahrgang
END:VEVENT
BEGIN:VEVENT
DTSTART;VALUE=DATE:20221010
DTEND;VALUE=DATE:20221011
DTSTAMP:20260425T141356
CREATED:20220828T141306Z
LAST-MODIFIED:20220828T141306Z
UID:7736-1665360000-1665446399@www.brecht-oberschule.de
SUMMARY:Klassenarbeit Mathematik 8.1 + 8.2
DESCRIPTION:
URL:https://www.brecht-oberschule.de/termin/klassenarbeit-mathematik-8-1-8-2
CATEGORIES:8. Jahrgang
END:VEVENT
BEGIN:VEVENT
DTSTART;VALUE=DATE:20221010
DTEND;VALUE=DATE:20221011
DTSTAMP:20260425T141356
CREATED:20220902T072300Z
LAST-MODIFIED:20220902T072300Z
UID:7779-1665360000-1665446399@www.brecht-oberschule.de
SUMMARY:Klassenarbeit Biologie 9.13
DESCRIPTION:
URL:https://www.brecht-oberschule.de/termin/klassenarbeit-biologie-9-13
CATEGORIES:9. Jahrgang
END:VEVENT
BEGIN:VEVENT
DTSTART;VALUE=DATE:20221010
DTEND;VALUE=DATE:20221011
DTSTAMP:20260425T141356
CREATED:20220903T130940Z
LAST-MODIFIED:20220903T130940Z
UID:7797-1665360000-1665446399@www.brecht-oberschule.de
SUMMARY:Klassenarbeit Englisch 10.2
DESCRIPTION:
URL:https://www.brecht-oberschule.de/termin/klassenarbeit-englisch-10-2-7
CATEGORIES:10. Jahrgang
END:VEVENT
BEGIN:VEVENT
DTSTART;VALUE=DATE:20221010
DTEND;VALUE=DATE:20221011
DTSTAMP:20260425T141356
CREATED:20220915T122041Z
LAST-MODIFIED:20220915T122041Z
UID:7854-1665360000-1665446399@www.brecht-oberschule.de
SUMMARY:Klassenarbeit Deutsch 7.13/14
DESCRIPTION:
URL:https://www.brecht-oberschule.de/termin/klassenarbeit-deutsch-7-13-14
CATEGORIES:7. Jahrgang
END:VEVENT
END:VCALENDAR