BEGIN:VCALENDAR
VERSION:2.0
PRODID:-//Bertolt-Brecht-Oberschule - ECPv6.14.1//NONSGML v1.0//EN
CALSCALE:GREGORIAN
METHOD:PUBLISH
X-ORIGINAL-URL:https://www.brecht-oberschule.de
X-WR-CALDESC:Veranstaltungen für Bertolt-Brecht-Oberschule
REFRESH-INTERVAL;VALUE=DURATION:PT1H
X-Robots-Tag:noindex
X-PUBLISHED-TTL:PT1H
BEGIN:VTIMEZONE
TZID:Europe/Berlin
BEGIN:DAYLIGHT
TZOFFSETFROM:+0100
TZOFFSETTO:+0200
TZNAME:CEST
DTSTART:20220327T010000
END:DAYLIGHT
BEGIN:STANDARD
TZOFFSETFROM:+0200
TZOFFSETTO:+0100
TZNAME:CET
DTSTART:20221030T010000
END:STANDARD
END:VTIMEZONE
BEGIN:VEVENT
DTSTART;VALUE=DATE:20221021
DTEND;VALUE=DATE:20221022
DTSTAMP:20260425T122623
CREATED:20220909T184345Z
LAST-MODIFIED:20220909T184345Z
UID:7822-1666310400-1666396799@www.brecht-oberschule.de
SUMMARY:Klassenarbeit Spanisch 7.2
DESCRIPTION:
URL:https://www.brecht-oberschule.de/termin/klassenarbeit-spanisch-7-2-4
CATEGORIES:7. Jahrgang
END:VEVENT
BEGIN:VEVENT
DTSTART;VALUE=DATE:20221021
DTEND;VALUE=DATE:20221022
DTSTAMP:20260425T122623
CREATED:20220930T104957Z
LAST-MODIFIED:20221005T054314Z
UID:7955-1666310400-1666396799@www.brecht-oberschule.de
SUMMARY:Klassenarbeit Englisch 8.11/13 + Ink. Kurs
DESCRIPTION:
URL:https://www.brecht-oberschule.de/termin/klassenarbeit-englisch-8-11
CATEGORIES:8. Jahrgang
END:VEVENT
BEGIN:VEVENT
DTSTART;VALUE=DATE:20221021
DTEND;VALUE=DATE:20221022
DTSTAMP:20260425T122623
CREATED:20220930T105035Z
LAST-MODIFIED:20220930T105035Z
UID:7957-1666310400-1666396799@www.brecht-oberschule.de
SUMMARY:Klassenarbeit Französisch 7.2
DESCRIPTION:
URL:https://www.brecht-oberschule.de/termin/klassenarbeit-franzoesisch-7-2-2
CATEGORIES:7. Jahrgang
END:VEVENT
BEGIN:VEVENT
DTSTART;VALUE=DATE:20221021
DTEND;VALUE=DATE:20221022
DTSTAMP:20260425T122623
CREATED:20220930T105546Z
LAST-MODIFIED:20220930T105546Z
UID:7963-1666310400-1666396799@www.brecht-oberschule.de
SUMMARY:Kurzkontrolle Chemie 10.22
DESCRIPTION:
URL:https://www.brecht-oberschule.de/termin/kurzkontrolle-chemie-10-22
CATEGORIES:10. Jahrgang
END:VEVENT
BEGIN:VEVENT
DTSTART;VALUE=DATE:20221021
DTEND;VALUE=DATE:20221022
DTSTAMP:20260425T122623
CREATED:20221006T095252Z
LAST-MODIFIED:20221006T095252Z
UID:7974-1666310400-1666396799@www.brecht-oberschule.de
SUMMARY:Klassenarbeit Biologie 7.13
DESCRIPTION:
URL:https://www.brecht-oberschule.de/termin/klassenarbeit-biologie-7-13
CATEGORIES:7. Jahrgang
END:VEVENT
END:VCALENDAR