BEGIN:VCALENDAR
VERSION:2.0
PRODID:-//Bertolt-Brecht-Oberschule - ECPv6.14.1//NONSGML v1.0//EN
CALSCALE:GREGORIAN
METHOD:PUBLISH
X-WR-CALNAME:Bertolt-Brecht-Oberschule
X-ORIGINAL-URL:https://www.brecht-oberschule.de
X-WR-CALDESC:Veranstaltungen für Bertolt-Brecht-Oberschule
REFRESH-INTERVAL;VALUE=DURATION:PT1H
X-Robots-Tag:noindex
X-PUBLISHED-TTL:PT1H
BEGIN:VTIMEZONE
TZID:Europe/Berlin
BEGIN:DAYLIGHT
TZOFFSETFROM:+0100
TZOFFSETTO:+0200
TZNAME:CEST
DTSTART:20220327T010000
END:DAYLIGHT
BEGIN:STANDARD
TZOFFSETFROM:+0200
TZOFFSETTO:+0100
TZNAME:CET
DTSTART:20221030T010000
END:STANDARD
END:VTIMEZONE
BEGIN:VEVENT
DTSTART;VALUE=DATE:20221130
DTEND;VALUE=DATE:20221201
DTSTAMP:20260423T155950
CREATED:20221107T143819Z
LAST-MODIFIED:20221107T143819Z
UID:8033-1669766400-1669852799@www.brecht-oberschule.de
SUMMARY:Klassenarbeit Physik 9.22
DESCRIPTION:
URL:https://www.brecht-oberschule.de/termin/klassenarbeit-physik-9-22-3
CATEGORIES:9. Jahrgang
END:VEVENT
BEGIN:VEVENT
DTSTART;VALUE=DATE:20221130
DTEND;VALUE=DATE:20221201
DTSTAMP:20260423T155950
CREATED:20221107T143901Z
LAST-MODIFIED:20221107T143901Z
UID:8035-1669766400-1669852799@www.brecht-oberschule.de
SUMMARY:Klassenarbeit Physik 9.23
DESCRIPTION:
URL:https://www.brecht-oberschule.de/termin/klassenarbeit-physik-9-23
CATEGORIES:9. Jahrgang
END:VEVENT
BEGIN:VEVENT
DTSTART;VALUE=DATE:20221130
DTEND;VALUE=DATE:20221201
DTSTAMP:20260423T155950
CREATED:20221114T084149Z
LAST-MODIFIED:20221114T084149Z
UID:8079-1669766400-1669852799@www.brecht-oberschule.de
SUMMARY:Klassenarbeit Englisch 8.24
DESCRIPTION:
URL:https://www.brecht-oberschule.de/termin/klassenarbeit-englisch-8-24-2
CATEGORIES:8. Jahrgang
END:VEVENT
BEGIN:VEVENT
DTSTART;VALUE=DATE:20221130
DTEND;VALUE=DATE:20221201
DTSTAMP:20260423T155950
CREATED:20221123T074032Z
LAST-MODIFIED:20221123T074032Z
UID:8113-1669766400-1669852799@www.brecht-oberschule.de
SUMMARY:Klassenarbeit Biologie 7.11
DESCRIPTION:
URL:https://www.brecht-oberschule.de/termin/klassenarbeit-biologie-7-11
CATEGORIES:7. Jahrgang
END:VEVENT
BEGIN:VEVENT
DTSTART;TZID=Europe/Berlin:20221130T180000
DTEND;TZID=Europe/Berlin:20221130T200000
DTSTAMP:20260423T155950
CREATED:20221123T072629Z
LAST-MODIFIED:20221123T072629Z
UID:8103-1669831200-1669838400@www.brecht-oberschule.de
SUMMARY:Elterncafé rund um BOLLE (Digitales Klassenbuch)
DESCRIPTION:Sehr geehrte Eltern und Erziehungsberechtigte\, \nhiermit möchten wir Sie zu unserem anstehenden Elterncafé am 30.11.22\, um 18 Uhr bei uns im Freizeitbereich (AUB)\neinladen. \nDieses mal wollen wir uns gemeinsam mit Herrn Bruch (Mittelstufenleitung & BOLLE Beauftragter) das Digitale Klassenbuch BOLLE anschauen\, Ihnen wird das Programm vorgestellt und auch erklärt\, wie Sie es selbst nutzen können. Im Anschluss ist Zeit für Ihre Fragen zu BOLLE oder anderen Themen.  \nIn regelmäßigen Abständen veranstalten wir Elterncafés zu verschiedenen Themen\, die die Eltern und Erziehungsberechtigten der Schüler:innen an der Bertolt-Brecht-Oberschule interessieren könnten. \nMit freundlichen Grüßen\nDie Schulsozialarbeit der Bertolt- Brecht- Oberschule
URL:https://www.brecht-oberschule.de/termin/elterncafe-rund-um-bolle-digitales-klassenbuch
LOCATION:Freizeitbereich\, Wilhelmstraße 10\, Berlin\, Berlin\, 13595\, Deutschland
CATEGORIES:10. Jahrgang,11. Jahrgang,12. Jahrgang,13. Jahrgang,7. Jahrgang,8. Jahrgang,9. Jahrgang,Sonstige
ORGANIZER;CN="Schulsozialarbeit":MAILTO:schulsozialarbeit@brecht-oberschule.de
END:VEVENT
END:VCALENDAR