BEGIN:VCALENDAR
VERSION:2.0
PRODID:-//Bertolt-Brecht-Oberschule - ECPv6.14.1//NONSGML v1.0//EN
CALSCALE:GREGORIAN
METHOD:PUBLISH
X-ORIGINAL-URL:https://www.brecht-oberschule.de
X-WR-CALDESC:Veranstaltungen für Bertolt-Brecht-Oberschule
REFRESH-INTERVAL;VALUE=DURATION:PT1H
X-Robots-Tag:noindex
X-PUBLISHED-TTL:PT1H
BEGIN:VTIMEZONE
TZID:Europe/Berlin
BEGIN:DAYLIGHT
TZOFFSETFROM:+0100
TZOFFSETTO:+0200
TZNAME:CEST
DTSTART:20220327T010000
END:DAYLIGHT
BEGIN:STANDARD
TZOFFSETFROM:+0200
TZOFFSETTO:+0100
TZNAME:CET
DTSTART:20221030T010000
END:STANDARD
END:VTIMEZONE
BEGIN:VEVENT
DTSTART;VALUE=DATE:20221205
DTEND;VALUE=DATE:20221206
DTSTAMP:20260423T174337
CREATED:20221116T101447Z
LAST-MODIFIED:20221116T101447Z
UID:8091-1670198400-1670284799@www.brecht-oberschule.de
SUMMARY:Klassenarbeit Kunst 9.2
DESCRIPTION:
URL:https://www.brecht-oberschule.de/termin/klassenarbeit-kunst-9-2
CATEGORIES:9. Jahrgang
END:VEVENT
BEGIN:VEVENT
DTSTART;VALUE=DATE:20221205
DTEND;VALUE=DATE:20221206
DTSTAMP:20260423T174337
CREATED:20221123T074354Z
LAST-MODIFIED:20221123T074354Z
UID:8115-1670198400-1670284799@www.brecht-oberschule.de
SUMMARY:Klassenarbeit Biologie 7.21
DESCRIPTION:
URL:https://www.brecht-oberschule.de/termin/klassenarbeit-biologie-7-21-2
CATEGORIES:7. Jahrgang
END:VEVENT
BEGIN:VEVENT
DTSTART;VALUE=DATE:20221205
DTEND;VALUE=DATE:20221206
DTSTAMP:20260423T174337
CREATED:20221123T074455Z
LAST-MODIFIED:20221123T074455Z
UID:8117-1670198400-1670284799@www.brecht-oberschule.de
SUMMARY:Klassenarbeit Biologie 9.21 Wahl
DESCRIPTION:
URL:https://www.brecht-oberschule.de/termin/klassenarbeit-biologie-9-21-wahl
CATEGORIES:9. Jahrgang
END:VEVENT
END:VCALENDAR