BEGIN:VCALENDAR
VERSION:2.0
PRODID:-//Bertolt-Brecht-Oberschule - ECPv6.14.1//NONSGML v1.0//EN
CALSCALE:GREGORIAN
METHOD:PUBLISH
X-WR-CALNAME:Bertolt-Brecht-Oberschule
X-ORIGINAL-URL:https://www.brecht-oberschule.de
X-WR-CALDESC:Veranstaltungen für Bertolt-Brecht-Oberschule
REFRESH-INTERVAL;VALUE=DURATION:PT1H
X-Robots-Tag:noindex
X-PUBLISHED-TTL:PT1H
BEGIN:VTIMEZONE
TZID:Europe/Berlin
BEGIN:DAYLIGHT
TZOFFSETFROM:+0100
TZOFFSETTO:+0200
TZNAME:CEST
DTSTART:20220327T010000
END:DAYLIGHT
BEGIN:STANDARD
TZOFFSETFROM:+0200
TZOFFSETTO:+0100
TZNAME:CET
DTSTART:20221030T010000
END:STANDARD
END:VTIMEZONE
BEGIN:VEVENT
DTSTART;VALUE=DATE:20221208
DTEND;VALUE=DATE:20221209
DTSTAMP:20260423T155950
CREATED:20220905T144005Z
LAST-MODIFIED:20220905T144005Z
UID:7805-1670457600-1670543999@www.brecht-oberschule.de
SUMMARY:Klassenarbeit Englisch 7.1
DESCRIPTION:
URL:https://www.brecht-oberschule.de/termin/klassenarbeit-englisch-7-1-13
CATEGORIES:7. Jahrgang
END:VEVENT
BEGIN:VEVENT
DTSTART;VALUE=DATE:20221208
DTEND;VALUE=DATE:20221209
DTSTAMP:20260423T155950
CREATED:20221107T143932Z
LAST-MODIFIED:20221107T143932Z
UID:8037-1670457600-1670543999@www.brecht-oberschule.de
SUMMARY:Klassenarbeit Physik 8.22
DESCRIPTION:
URL:https://www.brecht-oberschule.de/termin/klassenarbeit-physik-8-22
CATEGORIES:8. Jahrgang
END:VEVENT
BEGIN:VEVENT
DTSTART;VALUE=DATE:20221208
DTEND;VALUE=DATE:20221209
DTSTAMP:20260423T155950
CREATED:20221107T144532Z
LAST-MODIFIED:20221107T144532Z
UID:8039-1670457600-1670543999@www.brecht-oberschule.de
SUMMARY:Klassenarbeit Englisch 10.1
DESCRIPTION:
URL:https://www.brecht-oberschule.de/termin/klassenarbeit-englisch-10-1-8
CATEGORIES:10. Jahrgang
END:VEVENT
BEGIN:VEVENT
DTSTART;VALUE=DATE:20221208
DTEND;VALUE=DATE:20221209
DTSTAMP:20260423T155950
CREATED:20221123T074801Z
LAST-MODIFIED:20221123T074801Z
UID:8123-1670457600-1670543999@www.brecht-oberschule.de
SUMMARY:Klassenarbeit Biologie Wahl 10.11
DESCRIPTION:
URL:https://www.brecht-oberschule.de/termin/klassenarbeit-biologie-wahl-10-11
CATEGORIES:10. Jahrgang
END:VEVENT
BEGIN:VEVENT
DTSTART;VALUE=DATE:20221208
DTEND;VALUE=DATE:20221209
DTSTAMP:20260423T155950
CREATED:20221123T074849Z
LAST-MODIFIED:20221123T074849Z
UID:8125-1670457600-1670543999@www.brecht-oberschule.de
SUMMARY:Klassenarbeit Geschichte 10.22
DESCRIPTION:
URL:https://www.brecht-oberschule.de/termin/klassenarbeit-geschichte-10-22
CATEGORIES:10. Jahrgang
END:VEVENT
BEGIN:VEVENT
DTSTART;VALUE=DATE:20221208
DTEND;VALUE=DATE:20221209
DTSTAMP:20260423T155950
CREATED:20221123T074943Z
LAST-MODIFIED:20221123T074943Z
UID:8127-1670457600-1670543999@www.brecht-oberschule.de
SUMMARY:Klassenarbeit Politische Bildung 8.22
DESCRIPTION:
URL:https://www.brecht-oberschule.de/termin/klassenarbeit-politische-bildung-8-22
CATEGORIES:8. Jahrgang
END:VEVENT
END:VCALENDAR