BEGIN:VCALENDAR
VERSION:2.0
PRODID:-//Bertolt-Brecht-Oberschule - ECPv6.14.1//NONSGML v1.0//EN
CALSCALE:GREGORIAN
METHOD:PUBLISH
X-ORIGINAL-URL:https://www.brecht-oberschule.de
X-WR-CALDESC:Veranstaltungen für Bertolt-Brecht-Oberschule
REFRESH-INTERVAL;VALUE=DURATION:PT1H
X-Robots-Tag:noindex
X-PUBLISHED-TTL:PT1H
BEGIN:VTIMEZONE
TZID:Europe/Berlin
BEGIN:DAYLIGHT
TZOFFSETFROM:+0100
TZOFFSETTO:+0200
TZNAME:CEST
DTSTART:20220327T010000
END:DAYLIGHT
BEGIN:STANDARD
TZOFFSETFROM:+0200
TZOFFSETTO:+0100
TZNAME:CET
DTSTART:20221030T010000
END:STANDARD
END:VTIMEZONE
BEGIN:VEVENT
DTSTART;VALUE=DATE:20221213
DTEND;VALUE=DATE:20221214
DTSTAMP:20260423T160347
CREATED:20220905T144106Z
LAST-MODIFIED:20220905T144106Z
UID:7809-1670889600-1670975999@www.brecht-oberschule.de
SUMMARY:Klassenarbeit Englisch 7.2
DESCRIPTION:
URL:https://www.brecht-oberschule.de/termin/klassenarbeit-englisch-7-2-14
CATEGORIES:7. Jahrgang
END:VEVENT
BEGIN:VEVENT
DTSTART;VALUE=DATE:20221213
DTEND;VALUE=DATE:20221214
DTSTAMP:20260423T160347
CREATED:20220909T184829Z
LAST-MODIFIED:20220909T184829Z
UID:7834-1670889600-1670975999@www.brecht-oberschule.de
SUMMARY:Klassenarbeit Spanisch 8.1
DESCRIPTION:
URL:https://www.brecht-oberschule.de/termin/klassenarbeit-spanisch-8-1-4
CATEGORIES:8. Jahrgang
END:VEVENT
BEGIN:VEVENT
DTSTART;VALUE=DATE:20221213
DTEND;VALUE=DATE:20221214
DTSTAMP:20260423T160347
CREATED:20220915T121749Z
LAST-MODIFIED:20220915T121749Z
UID:7846-1670889600-1670975999@www.brecht-oberschule.de
SUMMARY:Klassenarbeit Deutsch 7.11
DESCRIPTION:
URL:https://www.brecht-oberschule.de/termin/klassenarbeit-deutsch-7-11-9
CATEGORIES:7. Jahrgang
END:VEVENT
BEGIN:VEVENT
DTSTART;VALUE=DATE:20221213
DTEND;VALUE=DATE:20221214
DTSTAMP:20260423T160347
CREATED:20221115T114449Z
LAST-MODIFIED:20221115T114449Z
UID:8082-1670889600-1670975999@www.brecht-oberschule.de
SUMMARY:Klassenarbeit Deutsch 9.1
DESCRIPTION:
URL:https://www.brecht-oberschule.de/termin/klassenarbeit-deutsch-9-1-9
CATEGORIES:9. Jahrgang
END:VEVENT
END:VCALENDAR