BEGIN:VCALENDAR
VERSION:2.0
PRODID:-//Bertolt-Brecht-Oberschule - ECPv6.14.1//NONSGML v1.0//EN
CALSCALE:GREGORIAN
METHOD:PUBLISH
X-WR-CALNAME:Bertolt-Brecht-Oberschule
X-ORIGINAL-URL:https://www.brecht-oberschule.de
X-WR-CALDESC:Veranstaltungen für Bertolt-Brecht-Oberschule
REFRESH-INTERVAL;VALUE=DURATION:PT1H
X-Robots-Tag:noindex
X-PUBLISHED-TTL:PT1H
BEGIN:VTIMEZONE
TZID:Europe/Berlin
BEGIN:DAYLIGHT
TZOFFSETFROM:+0100
TZOFFSETTO:+0200
TZNAME:CEST
DTSTART:20230326T010000
END:DAYLIGHT
BEGIN:STANDARD
TZOFFSETFROM:+0200
TZOFFSETTO:+0100
TZNAME:CET
DTSTART:20231029T010000
END:STANDARD
END:VTIMEZONE
BEGIN:VEVENT
DTSTART;VALUE=DATE:20230228
DTEND;VALUE=DATE:20230301
DTSTAMP:20260419T144153
CREATED:20230124T162537Z
LAST-MODIFIED:20230124T162537Z
UID:8371-1677542400-1677628799@www.brecht-oberschule.de
SUMMARY:Klassenarbeit Deutsch 9.1
DESCRIPTION:
URL:https://www.brecht-oberschule.de/termin/klassenarbeit-deutsch-9-1-10
CATEGORIES:9. Jahrgang
END:VEVENT
BEGIN:VEVENT
DTSTART;VALUE=DATE:20230228
DTEND;VALUE=DATE:20230301
DTSTAMP:20260419T144153
CREATED:20230224T100846Z
LAST-MODIFIED:20230224T100846Z
UID:8568-1677542400-1677628799@www.brecht-oberschule.de
SUMMARY:LEK Biologie 10.12
DESCRIPTION:
URL:https://www.brecht-oberschule.de/termin/lek-biologie-10-12
CATEGORIES:10. Jahrgang
END:VEVENT
END:VCALENDAR