BEGIN:VCALENDAR
VERSION:2.0
PRODID:-//Bertolt-Brecht-Oberschule - ECPv6.14.1//NONSGML v1.0//EN
CALSCALE:GREGORIAN
METHOD:PUBLISH
X-WR-CALNAME:Bertolt-Brecht-Oberschule
X-ORIGINAL-URL:https://www.brecht-oberschule.de
X-WR-CALDESC:Veranstaltungen für Bertolt-Brecht-Oberschule
REFRESH-INTERVAL;VALUE=DURATION:PT1H
X-Robots-Tag:noindex
X-PUBLISHED-TTL:PT1H
BEGIN:VTIMEZONE
TZID:Europe/Berlin
BEGIN:DAYLIGHT
TZOFFSETFROM:+0100
TZOFFSETTO:+0200
TZNAME:CEST
DTSTART:20260329T010000
END:DAYLIGHT
BEGIN:STANDARD
TZOFFSETFROM:+0200
TZOFFSETTO:+0100
TZNAME:CET
DTSTART:20261025T010000
END:STANDARD
END:VTIMEZONE
BEGIN:VEVENT
DTSTART;VALUE=DATE:20260422
DTEND;VALUE=DATE:20260423
DTSTAMP:20260422T021432
CREATED:20260227T200934Z
LAST-MODIFIED:20260227T200934Z
UID:18021-1776816000-1776902399@www.brecht-oberschule.de
SUMMARY:Englisch KA 10.1
DESCRIPTION:
URL:https://www.brecht-oberschule.de/termin/englisch-ka-10-1-4
CATEGORIES:10. Jahrgang
END:VEVENT
BEGIN:VEVENT
DTSTART;VALUE=DATE:20260422
DTEND;VALUE=DATE:20260423
DTSTAMP:20260422T021432
CREATED:20260227T201858Z
LAST-MODIFIED:20260227T201858Z
UID:18034-1776816000-1776902399@www.brecht-oberschule.de
SUMMARY:Englisch KA 10.1-ER
DESCRIPTION:Bei Herrn Ferber
URL:https://www.brecht-oberschule.de/termin/englisch-ka-10-1-er
CATEGORIES:10. Jahrgang
END:VEVENT
BEGIN:VEVENT
DTSTART;VALUE=DATE:20260422
DTEND;VALUE=DATE:20260423
DTSTAMP:20260422T021432
CREATED:20260304T201927Z
LAST-MODIFIED:20260318T151600Z
UID:18084-1776816000-1776902399@www.brecht-oberschule.de
SUMMARY:Nawi 2 WPF KA 8.11/.12/.14
DESCRIPTION:Bei Frau Sarikaya
URL:https://www.brecht-oberschule.de/termin/nawi-wpf-ka-8-11
CATEGORIES:8. Jahrgang
END:VEVENT
BEGIN:VEVENT
DTSTART;VALUE=DATE:20260422
DTEND;VALUE=DATE:20260423
DTSTAMP:20260422T021432
CREATED:20260309T221054Z
LAST-MODIFIED:20260309T221054Z
UID:18127-1776816000-1776902399@www.brecht-oberschule.de
SUMMARY:Franz. 3.KA 9.11/12/13
DESCRIPTION:Französisch  9.1 (9.11\, 9.12\, 9.13)
URL:https://www.brecht-oberschule.de/termin/franz-3-ka-9-11-12-13
CATEGORIES:9. Jahrgang
END:VEVENT
BEGIN:VEVENT
DTSTART;VALUE=DATE:20260422
DTEND;VALUE=DATE:20260423
DTSTAMP:20260422T021432
CREATED:20260326T103456Z
LAST-MODIFIED:20260326T103456Z
UID:18319-1776816000-1776902399@www.brecht-oberschule.de
SUMMARY:Spanisch Wahl-A  KA 9.2
DESCRIPTION:Bei Fr. Steger
URL:https://www.brecht-oberschule.de/termin/spanisch-wahl-a-ka-9-2
CATEGORIES:9. Jahrgang
END:VEVENT
END:VCALENDAR