BEGIN:VCALENDAR
VERSION:2.0
PRODID:-//Bertolt-Brecht-Oberschule - ECPv6.14.1//NONSGML v1.0//EN
CALSCALE:GREGORIAN
METHOD:PUBLISH
X-WR-CALNAME:Bertolt-Brecht-Oberschule
X-ORIGINAL-URL:https://www.brecht-oberschule.de
X-WR-CALDESC:Veranstaltungen für Bertolt-Brecht-Oberschule
REFRESH-INTERVAL;VALUE=DURATION:PT1H
X-Robots-Tag:noindex
X-PUBLISHED-TTL:PT1H
BEGIN:VTIMEZONE
TZID:Europe/Berlin
BEGIN:DAYLIGHT
TZOFFSETFROM:+0100
TZOFFSETTO:+0200
TZNAME:CEST
DTSTART:20220327T010000
END:DAYLIGHT
BEGIN:STANDARD
TZOFFSETFROM:+0200
TZOFFSETTO:+0100
TZNAME:CET
DTSTART:20221030T010000
END:STANDARD
END:VTIMEZONE
BEGIN:VEVENT
DTSTART;VALUE=DATE:20220602
DTEND;VALUE=DATE:20220603
DTSTAMP:20260425T154827
CREATED:20220211T135424Z
LAST-MODIFIED:20220211T135424Z
UID:7284-1654128000-1654214399@www.brecht-oberschule.de
SUMMARY:Klassenarbeit Deutsch (9.1)
DESCRIPTION:
URL:https://www.brecht-oberschule.de/termin/klassenarbeit-deutsch-9-1-7
CATEGORIES:9. Jahrgang
END:VEVENT
BEGIN:VEVENT
DTSTART;VALUE=DATE:20220603
DTEND;VALUE=DATE:20220604
DTSTAMP:20260425T154827
CREATED:20220217T131306Z
LAST-MODIFIED:20220217T131306Z
UID:7332-1654214400-1654300799@www.brecht-oberschule.de
SUMMARY:Klassenarbeit Theater (10.2)
DESCRIPTION:
URL:https://www.brecht-oberschule.de/termin/klassenarbeit-theater-10-2
CATEGORIES:10. Jahrgang
END:VEVENT
BEGIN:VEVENT
DTSTART;VALUE=DATE:20220608
DTEND;VALUE=DATE:20220609
DTSTAMP:20260425T154827
CREATED:20220520T154413Z
LAST-MODIFIED:20220524T192547Z
UID:7567-1654646400-1654732799@www.brecht-oberschule.de
SUMMARY:Klassenarbeit Mathematik (10.14)
DESCRIPTION:
URL:https://www.brecht-oberschule.de/termin/klassenarbeit-mathematik-10-14
CATEGORIES:10. Jahrgang
END:VEVENT
BEGIN:VEVENT
DTSTART;VALUE=DATE:20220609
DTEND;VALUE=DATE:20220610
DTSTAMP:20260425T154827
CREATED:20220501T113725Z
LAST-MODIFIED:20220501T113725Z
UID:7506-1654732800-1654819199@www.brecht-oberschule.de
SUMMARY:Klassenarbeit Französisch Wahl A (10.1)
DESCRIPTION:
URL:https://www.brecht-oberschule.de/termin/klassenarbeit-franzoesisch-wahl-a-10-1-5
CATEGORIES:10. Jahrgang
END:VEVENT
BEGIN:VEVENT
DTSTART;VALUE=DATE:20220609
DTEND;VALUE=DATE:20220610
DTSTAMP:20260425T154827
CREATED:20220516T155715Z
LAST-MODIFIED:20220516T155715Z
UID:7546-1654732800-1654819199@www.brecht-oberschule.de
SUMMARY:Klassenarbeit Spanisch Wahl A (10.13+10.14)
DESCRIPTION:
URL:https://www.brecht-oberschule.de/termin/klassenarbeit-spanisch-wahl-a-10-1310-14
CATEGORIES:10. Jahrgang
END:VEVENT
BEGIN:VEVENT
DTSTART;VALUE=DATE:20220609
DTEND;VALUE=DATE:20220610
DTSTAMP:20260425T154827
CREATED:20220520T153948Z
LAST-MODIFIED:20220520T153948Z
UID:7559-1654732800-1654819199@www.brecht-oberschule.de
SUMMARY:Klassenarbeit Mathematik (7.1)
DESCRIPTION:
URL:https://www.brecht-oberschule.de/termin/klassenarbeit-mathematik-7-1-8
CATEGORIES:7. Jahrgang
END:VEVENT
BEGIN:VEVENT
DTSTART;VALUE=DATE:20220609
DTEND;VALUE=DATE:20220610
DTSTAMP:20260425T154827
CREATED:20220520T154130Z
LAST-MODIFIED:20220520T154130Z
UID:7563-1654732800-1654819199@www.brecht-oberschule.de
SUMMARY:Klassenarbeit WAT Wahl A (10.1)
DESCRIPTION:
URL:https://www.brecht-oberschule.de/termin/klassenarbeit-wat-wahl-a-10-1
CATEGORIES:10. Jahrgang
END:VEVENT
BEGIN:VEVENT
DTSTART;VALUE=DATE:20220609
DTEND;VALUE=DATE:20220610
DTSTAMP:20260425T154827
CREATED:20220520T154452Z
LAST-MODIFIED:20220524T192622Z
UID:7569-1654732800-1654819199@www.brecht-oberschule.de
SUMMARY:Klassenarbeit Mathematik (10.23)
DESCRIPTION:
URL:https://www.brecht-oberschule.de/termin/klassenarbeit-mathematik-10-23
CATEGORIES:10. Jahrgang
END:VEVENT
BEGIN:VEVENT
DTSTART;VALUE=DATE:20220610
DTEND;VALUE=DATE:20220611
DTSTAMP:20260425T154827
CREATED:20220501T113756Z
LAST-MODIFIED:20220501T113756Z
UID:7508-1654819200-1654905599@www.brecht-oberschule.de
SUMMARY:Klassenarbeit Französisch Wahl A (10.2)
DESCRIPTION:
URL:https://www.brecht-oberschule.de/termin/klassenarbeit-franzoesisch-wahl-a-10-2-3
CATEGORIES:10. Jahrgang
END:VEVENT
BEGIN:VEVENT
DTSTART;VALUE=DATE:20220610
DTEND;VALUE=DATE:20220611
DTSTAMP:20260425T154827
CREATED:20220520T154018Z
LAST-MODIFIED:20220520T154018Z
UID:7561-1654819200-1654905599@www.brecht-oberschule.de
SUMMARY:Klassenarbeit Mathematik (7.2)
DESCRIPTION:
URL:https://www.brecht-oberschule.de/termin/klassenarbeit-mathematik-7-2-8
CATEGORIES:7. Jahrgang
END:VEVENT
BEGIN:VEVENT
DTSTART;VALUE=DATE:20220613
DTEND;VALUE=DATE:20220614
DTSTAMP:20260425T154827
CREATED:20220424T133920Z
LAST-MODIFIED:20220424T133920Z
UID:7481-1655078400-1655164799@www.brecht-oberschule.de
SUMMARY:Klassenarbeit Musik Profil Wahl B (10.1)
DESCRIPTION:
URL:https://www.brecht-oberschule.de/termin/klassenarbeit-musik-profil-wahl-b-10-1
CATEGORIES:10. Jahrgang
END:VEVENT
BEGIN:VEVENT
DTSTART;TZID=Europe/Berlin:20220613T080000
DTEND;TZID=Europe/Berlin:20220613T170000
DTSTAMP:20260425T154827
CREATED:20220520T153755Z
LAST-MODIFIED:20220520T153755Z
UID:7557-1655107200-1655139600@www.brecht-oberschule.de
SUMMARY:Klassenarbeit Mathematik Inklusion (7.2)
DESCRIPTION:
URL:https://www.brecht-oberschule.de/termin/klassenarbeit-mathematik-inklusion-7-2
CATEGORIES:7. Jahrgang
END:VEVENT
END:VCALENDAR