BEGIN:VCALENDAR
VERSION:2.0
PRODID:-//Bertolt-Brecht-Oberschule - ECPv6.14.1//NONSGML v1.0//EN
CALSCALE:GREGORIAN
METHOD:PUBLISH
X-WR-CALNAME:Bertolt-Brecht-Oberschule
X-ORIGINAL-URL:https://www.brecht-oberschule.de
X-WR-CALDESC:Veranstaltungen für Bertolt-Brecht-Oberschule
REFRESH-INTERVAL;VALUE=DURATION:PT1H
X-Robots-Tag:noindex
X-PUBLISHED-TTL:PT1H
BEGIN:VTIMEZONE
TZID:Europe/Berlin
BEGIN:DAYLIGHT
TZOFFSETFROM:+0100
TZOFFSETTO:+0200
TZNAME:CEST
DTSTART:20220327T010000
END:DAYLIGHT
BEGIN:STANDARD
TZOFFSETFROM:+0200
TZOFFSETTO:+0100
TZNAME:CET
DTSTART:20221030T010000
END:STANDARD
END:VTIMEZONE
BEGIN:VEVENT
DTSTART;VALUE=DATE:20221201
DTEND;VALUE=DATE:20221202
DTSTAMP:20260423T140626
CREATED:20221018T055504Z
LAST-MODIFIED:20221018T055504Z
UID:8021-1669852800-1669939199@www.brecht-oberschule.de
SUMMARY:Klassenarbeit Chemie 10.24
DESCRIPTION:
URL:https://www.brecht-oberschule.de/termin/klassenarbeit-chemie-10-24-2
CATEGORIES:10. Jahrgang
END:VEVENT
BEGIN:VEVENT
DTSTART;VALUE=DATE:20221201
DTEND;VALUE=DATE:20221202
DTSTAMP:20260423T140626
CREATED:20221116T101348Z
LAST-MODIFIED:20221116T101348Z
UID:8087-1669852800-1669939199@www.brecht-oberschule.de
SUMMARY:Klassenarbeit Kunst 7.1
DESCRIPTION:
URL:https://www.brecht-oberschule.de/termin/klassenarbeit-kunst-7-1
CATEGORIES:7. Jahrgang
END:VEVENT
BEGIN:VEVENT
DTSTART;VALUE=DATE:20221202
DTEND;VALUE=DATE:20221203
DTSTAMP:20260423T140626
CREATED:20220915T122556Z
LAST-MODIFIED:20220915T122556Z
UID:7870-1669939200-1670025599@www.brecht-oberschule.de
SUMMARY:Klassenarbeit Deutsch 8.1 + 8.2
DESCRIPTION:
URL:https://www.brecht-oberschule.de/termin/klassenarbeit-deutsch-8-1-8-2-2
CATEGORIES:8. Jahrgang
END:VEVENT
BEGIN:VEVENT
DTSTART;VALUE=DATE:20221202
DTEND;VALUE=DATE:20221203
DTSTAMP:20260423T140626
CREATED:20221018T055435Z
LAST-MODIFIED:20221018T055435Z
UID:8019-1669939200-1670025599@www.brecht-oberschule.de
SUMMARY:Klassenarbeit Chemie 10.23
DESCRIPTION:
URL:https://www.brecht-oberschule.de/termin/klassenarbeit-chemie-10-23
CATEGORIES:10. Jahrgang
END:VEVENT
BEGIN:VEVENT
DTSTART;VALUE=DATE:20221202
DTEND;VALUE=DATE:20221203
DTSTAMP:20260423T140626
CREATED:20221125T110553Z
LAST-MODIFIED:20221125T110553Z
UID:8134-1669939200-1670025599@www.brecht-oberschule.de
SUMMARY:Klassenarbeit Biologie 9.22
DESCRIPTION:
URL:https://www.brecht-oberschule.de/termin/klassenarbeit-biologie-9-22
CATEGORIES:9. Jahrgang
END:VEVENT
BEGIN:VEVENT
DTSTART;VALUE=DATE:20221205
DTEND;VALUE=DATE:20221206
DTSTAMP:20260423T140626
CREATED:20221116T101447Z
LAST-MODIFIED:20221116T101447Z
UID:8091-1670198400-1670284799@www.brecht-oberschule.de
SUMMARY:Klassenarbeit Kunst 9.2
DESCRIPTION:
URL:https://www.brecht-oberschule.de/termin/klassenarbeit-kunst-9-2
CATEGORIES:9. Jahrgang
END:VEVENT
BEGIN:VEVENT
DTSTART;VALUE=DATE:20221205
DTEND;VALUE=DATE:20221206
DTSTAMP:20260423T140626
CREATED:20221123T074354Z
LAST-MODIFIED:20221123T074354Z
UID:8115-1670198400-1670284799@www.brecht-oberschule.de
SUMMARY:Klassenarbeit Biologie 7.21
DESCRIPTION:
URL:https://www.brecht-oberschule.de/termin/klassenarbeit-biologie-7-21-2
CATEGORIES:7. Jahrgang
END:VEVENT
BEGIN:VEVENT
DTSTART;VALUE=DATE:20221205
DTEND;VALUE=DATE:20221206
DTSTAMP:20260423T140626
CREATED:20221123T074455Z
LAST-MODIFIED:20221123T074455Z
UID:8117-1670198400-1670284799@www.brecht-oberschule.de
SUMMARY:Klassenarbeit Biologie 9.21 Wahl
DESCRIPTION:
URL:https://www.brecht-oberschule.de/termin/klassenarbeit-biologie-9-21-wahl
CATEGORIES:9. Jahrgang
END:VEVENT
BEGIN:VEVENT
DTSTART;VALUE=DATE:20221206
DTEND;VALUE=DATE:20221207
DTSTAMP:20260423T140626
CREATED:20221116T101418Z
LAST-MODIFIED:20221116T101418Z
UID:8089-1670284800-1670371199@www.brecht-oberschule.de
SUMMARY:Klassenarbeit Kunst 9.1
DESCRIPTION:
URL:https://www.brecht-oberschule.de/termin/klassenarbeit-kunst-9-1
CATEGORIES:9. Jahrgang
END:VEVENT
BEGIN:VEVENT
DTSTART;VALUE=DATE:20221206
DTEND;VALUE=DATE:20221207
DTSTAMP:20260423T140626
CREATED:20221123T074620Z
LAST-MODIFIED:20221123T074620Z
UID:8119-1670284800-1670371199@www.brecht-oberschule.de
SUMMARY:Klassenarbeit Politik Wahl 7.21
DESCRIPTION:
URL:https://www.brecht-oberschule.de/termin/klassenarbeit-politik-wahl-7-21
CATEGORIES:7. Jahrgang
END:VEVENT
BEGIN:VEVENT
DTSTART;VALUE=DATE:20221207
DTEND;VALUE=DATE:20221208
DTSTAMP:20260423T140626
CREATED:20220921T091607Z
LAST-MODIFIED:20220921T091607Z
UID:7920-1670371200-1670457599@www.brecht-oberschule.de
SUMMARY:Klassenarbeit Englisch 9.1 + 9.2
DESCRIPTION:
URL:https://www.brecht-oberschule.de/termin/klassenarbeit-englisch-9-1-9-2-3
CATEGORIES:9. Jahrgang
END:VEVENT
BEGIN:VEVENT
DTSTART;VALUE=DATE:20221207
DTEND;VALUE=DATE:20221208
DTSTAMP:20260423T140626
CREATED:20221113T165551Z
LAST-MODIFIED:20221113T165551Z
UID:8074-1670371200-1670457599@www.brecht-oberschule.de
SUMMARY:Klassenarbeit Englisch 8.2
DESCRIPTION:
URL:https://www.brecht-oberschule.de/termin/klassenarbeit-englisch-8-2-8
CATEGORIES:8. Jahrgang
END:VEVENT
BEGIN:VEVENT
DTSTART;VALUE=DATE:20221208
DTEND;VALUE=DATE:20221209
DTSTAMP:20260423T140626
CREATED:20220905T144005Z
LAST-MODIFIED:20220905T144005Z
UID:7805-1670457600-1670543999@www.brecht-oberschule.de
SUMMARY:Klassenarbeit Englisch 7.1
DESCRIPTION:
URL:https://www.brecht-oberschule.de/termin/klassenarbeit-englisch-7-1-13
CATEGORIES:7. Jahrgang
END:VEVENT
BEGIN:VEVENT
DTSTART;VALUE=DATE:20221208
DTEND;VALUE=DATE:20221209
DTSTAMP:20260423T140626
CREATED:20221107T143932Z
LAST-MODIFIED:20221107T143932Z
UID:8037-1670457600-1670543999@www.brecht-oberschule.de
SUMMARY:Klassenarbeit Physik 8.22
DESCRIPTION:
URL:https://www.brecht-oberschule.de/termin/klassenarbeit-physik-8-22
CATEGORIES:8. Jahrgang
END:VEVENT
BEGIN:VEVENT
DTSTART;VALUE=DATE:20221208
DTEND;VALUE=DATE:20221209
DTSTAMP:20260423T140626
CREATED:20221107T144532Z
LAST-MODIFIED:20221107T144532Z
UID:8039-1670457600-1670543999@www.brecht-oberschule.de
SUMMARY:Klassenarbeit Englisch 10.1
DESCRIPTION:
URL:https://www.brecht-oberschule.de/termin/klassenarbeit-englisch-10-1-8
CATEGORIES:10. Jahrgang
END:VEVENT
BEGIN:VEVENT
DTSTART;VALUE=DATE:20221208
DTEND;VALUE=DATE:20221209
DTSTAMP:20260423T140626
CREATED:20221123T074801Z
LAST-MODIFIED:20221123T074801Z
UID:8123-1670457600-1670543999@www.brecht-oberschule.de
SUMMARY:Klassenarbeit Biologie Wahl 10.11
DESCRIPTION:
URL:https://www.brecht-oberschule.de/termin/klassenarbeit-biologie-wahl-10-11
CATEGORIES:10. Jahrgang
END:VEVENT
BEGIN:VEVENT
DTSTART;VALUE=DATE:20221208
DTEND;VALUE=DATE:20221209
DTSTAMP:20260423T140626
CREATED:20221123T074849Z
LAST-MODIFIED:20221123T074849Z
UID:8125-1670457600-1670543999@www.brecht-oberschule.de
SUMMARY:Klassenarbeit Geschichte 10.22
DESCRIPTION:
URL:https://www.brecht-oberschule.de/termin/klassenarbeit-geschichte-10-22
CATEGORIES:10. Jahrgang
END:VEVENT
BEGIN:VEVENT
DTSTART;VALUE=DATE:20221208
DTEND;VALUE=DATE:20221209
DTSTAMP:20260423T140626
CREATED:20221123T074943Z
LAST-MODIFIED:20221123T074943Z
UID:8127-1670457600-1670543999@www.brecht-oberschule.de
SUMMARY:Klassenarbeit Politische Bildung 8.22
DESCRIPTION:
URL:https://www.brecht-oberschule.de/termin/klassenarbeit-politische-bildung-8-22
CATEGORIES:8. Jahrgang
END:VEVENT
BEGIN:VEVENT
DTSTART;VALUE=DATE:20221209
DTEND;VALUE=DATE:20221210
DTSTAMP:20260423T140626
CREATED:20221113T165507Z
LAST-MODIFIED:20221113T165507Z
UID:8072-1670544000-1670630399@www.brecht-oberschule.de
SUMMARY:Klassenarbeit Englisch 8.1
DESCRIPTION:
URL:https://www.brecht-oberschule.de/termin/klassenarbeit-englisch-8-1-9
CATEGORIES:8. Jahrgang
END:VEVENT
BEGIN:VEVENT
DTSTART;VALUE=DATE:20221209
DTEND;VALUE=DATE:20221210
DTSTAMP:20260423T140626
CREATED:20221204T172217Z
LAST-MODIFIED:20221204T172217Z
UID:8154-1670544000-1670630399@www.brecht-oberschule.de
SUMMARY:Klassenarbeit Französisch 7.2
DESCRIPTION:
URL:https://www.brecht-oberschule.de/termin/klassenarbeit-franzoesisch-7-2-3
CATEGORIES:7. Jahrgang
END:VEVENT
BEGIN:VEVENT
DTSTART;VALUE=DATE:20221212
DTEND;VALUE=DATE:20221213
DTSTAMP:20260423T140626
CREATED:20220828T140600Z
LAST-MODIFIED:20220828T140600Z
UID:7732-1670803200-1670889599@www.brecht-oberschule.de
SUMMARY:Klassenarbeit Mathematik 9.2
DESCRIPTION:
URL:https://www.brecht-oberschule.de/termin/klassenarbeit-mathematik-9-2-13
CATEGORIES:9. Jahrgang
END:VEVENT
BEGIN:VEVENT
DTSTART;VALUE=DATE:20221212
DTEND;VALUE=DATE:20221213
DTSTAMP:20260423T140626
CREATED:20220915T122342Z
LAST-MODIFIED:20220915T122342Z
UID:7864-1670803200-1670889599@www.brecht-oberschule.de
SUMMARY:Klassenarbeit Deutsch 7.13
DESCRIPTION:
URL:https://www.brecht-oberschule.de/termin/klassenarbeit-deutsch-7-13-3
CATEGORIES:7. Jahrgang
END:VEVENT
BEGIN:VEVENT
DTSTART;VALUE=DATE:20221212
DTEND;VALUE=DATE:20221213
DTSTAMP:20260423T140626
CREATED:20221107T144607Z
LAST-MODIFIED:20221107T144607Z
UID:8041-1670803200-1670889599@www.brecht-oberschule.de
SUMMARY:Klassenarbeit Englisch 10.2
DESCRIPTION:
URL:https://www.brecht-oberschule.de/termin/klassenarbeit-englisch-10-2-8
CATEGORIES:10. Jahrgang
END:VEVENT
BEGIN:VEVENT
DTSTART;VALUE=DATE:20221212
DTEND;VALUE=DATE:20221213
DTSTAMP:20260423T140626
CREATED:20221113T165714Z
LAST-MODIFIED:20221113T165714Z
UID:8076-1670803200-1670889599@www.brecht-oberschule.de
SUMMARY:Klassenarbeit Mathematik 8.1 + 8.2
DESCRIPTION:
URL:https://www.brecht-oberschule.de/termin/klassenarbeit-mathematik-8-1-8-2-2
CATEGORIES:8. Jahrgang
END:VEVENT
BEGIN:VEVENT
DTSTART;VALUE=DATE:20221213
DTEND;VALUE=DATE:20221214
DTSTAMP:20260423T140626
CREATED:20220905T144106Z
LAST-MODIFIED:20220905T144106Z
UID:7809-1670889600-1670975999@www.brecht-oberschule.de
SUMMARY:Klassenarbeit Englisch 7.2
DESCRIPTION:
URL:https://www.brecht-oberschule.de/termin/klassenarbeit-englisch-7-2-14
CATEGORIES:7. Jahrgang
END:VEVENT
BEGIN:VEVENT
DTSTART;VALUE=DATE:20221213
DTEND;VALUE=DATE:20221214
DTSTAMP:20260423T140626
CREATED:20220909T184829Z
LAST-MODIFIED:20220909T184829Z
UID:7834-1670889600-1670975999@www.brecht-oberschule.de
SUMMARY:Klassenarbeit Spanisch 8.1
DESCRIPTION:
URL:https://www.brecht-oberschule.de/termin/klassenarbeit-spanisch-8-1-4
CATEGORIES:8. Jahrgang
END:VEVENT
BEGIN:VEVENT
DTSTART;VALUE=DATE:20221213
DTEND;VALUE=DATE:20221214
DTSTAMP:20260423T140626
CREATED:20220915T121749Z
LAST-MODIFIED:20220915T121749Z
UID:7846-1670889600-1670975999@www.brecht-oberschule.de
SUMMARY:Klassenarbeit Deutsch 7.11
DESCRIPTION:
URL:https://www.brecht-oberschule.de/termin/klassenarbeit-deutsch-7-11-9
CATEGORIES:7. Jahrgang
END:VEVENT
BEGIN:VEVENT
DTSTART;VALUE=DATE:20221213
DTEND;VALUE=DATE:20221214
DTSTAMP:20260423T140626
CREATED:20221115T114449Z
LAST-MODIFIED:20221115T114449Z
UID:8082-1670889600-1670975999@www.brecht-oberschule.de
SUMMARY:Klassenarbeit Deutsch 9.1
DESCRIPTION:
URL:https://www.brecht-oberschule.de/termin/klassenarbeit-deutsch-9-1-9
CATEGORIES:9. Jahrgang
END:VEVENT
BEGIN:VEVENT
DTSTART;VALUE=DATE:20221214
DTEND;VALUE=DATE:20221215
DTSTAMP:20260423T140626
CREATED:20220828T140624Z
LAST-MODIFIED:20220828T140624Z
UID:7734-1670976000-1671062399@www.brecht-oberschule.de
SUMMARY:Klassenarbeit Mathematik 9.1
DESCRIPTION:
URL:https://www.brecht-oberschule.de/termin/klassenarbeit-mathematik-9-1-12
CATEGORIES:9. Jahrgang
END:VEVENT
BEGIN:VEVENT
DTSTART;VALUE=DATE:20221214
DTEND;VALUE=DATE:20221215
DTSTAMP:20260423T140626
CREATED:20220915T121839Z
LAST-MODIFIED:20220915T122001Z
UID:7851-1670976000-1671062399@www.brecht-oberschule.de
SUMMARY:Klassenarbeit Deutsch 7.12
DESCRIPTION:
URL:https://www.brecht-oberschule.de/termin/klassenarbeit-deutsch-7-11-10
CATEGORIES:7. Jahrgang
END:VEVENT
END:VCALENDAR