BEGIN:VCALENDAR
VERSION:2.0
PRODID:-//Bertolt-Brecht-Oberschule - ECPv6.14.1//NONSGML v1.0//EN
CALSCALE:GREGORIAN
METHOD:PUBLISH
X-WR-CALNAME:Bertolt-Brecht-Oberschule
X-ORIGINAL-URL:https://www.brecht-oberschule.de
X-WR-CALDESC:Veranstaltungen für Bertolt-Brecht-Oberschule
REFRESH-INTERVAL;VALUE=DURATION:PT1H
X-Robots-Tag:noindex
X-PUBLISHED-TTL:PT1H
BEGIN:VTIMEZONE
TZID:Europe/Berlin
BEGIN:DAYLIGHT
TZOFFSETFROM:+0100
TZOFFSETTO:+0200
TZNAME:CEST
DTSTART:20260329T010000
END:DAYLIGHT
BEGIN:STANDARD
TZOFFSETFROM:+0200
TZOFFSETTO:+0100
TZNAME:CET
DTSTART:20261025T010000
END:STANDARD
END:VTIMEZONE
BEGIN:VEVENT
DTSTART;VALUE=DATE:20260427
DTEND;VALUE=DATE:20260428
DTSTAMP:20260425T152402
CREATED:20260324T222524Z
LAST-MODIFIED:20260324T222524Z
UID:18287-1777248000-1777334399@www.brecht-oberschule.de
SUMMARY:Engl. KA 8.2 G-Kurs
DESCRIPTION:bei Fr. Zachariadou
URL:https://www.brecht-oberschule.de/termin/engl-ka-8-2-g-kurs
CATEGORIES:8. Jahrgang
END:VEVENT
BEGIN:VEVENT
DTSTART;VALUE=DATE:20260427
DTEND;VALUE=DATE:20260428
DTSTAMP:20260425T152402
CREATED:20260326T224110Z
LAST-MODIFIED:20260326T224110Z
UID:18322-1777248000-1777334399@www.brecht-oberschule.de
SUMMARY:Physik LEK 7.12
DESCRIPTION:Bei Fr. Eyler
URL:https://www.brecht-oberschule.de/termin/physik-lek-7-12-3
CATEGORIES:7. Jahrgang
END:VEVENT
BEGIN:VEVENT
DTSTART;VALUE=DATE:20260427
DTEND;VALUE=DATE:20260428
DTSTAMP:20260425T152402
CREATED:20260326T224151Z
LAST-MODIFIED:20260326T224151Z
UID:18324-1777248000-1777334399@www.brecht-oberschule.de
SUMMARY:Physik LEK 7.23
DESCRIPTION:Bei Fr. Eyler
URL:https://www.brecht-oberschule.de/termin/physik-lek-7-23-2
CATEGORIES:7. Jahrgang
END:VEVENT
BEGIN:VEVENT
DTSTART;VALUE=DATE:20260427
DTEND;VALUE=DATE:20260428
DTSTAMP:20260425T152402
CREATED:20260326T224220Z
LAST-MODIFIED:20260326T224220Z
UID:18326-1777248000-1777334399@www.brecht-oberschule.de
SUMMARY:Physik LEK 7.24
DESCRIPTION:Bei Fr. Eyler
URL:https://www.brecht-oberschule.de/termin/physik-lek-7-24-2
CATEGORIES:7. Jahrgang
END:VEVENT
BEGIN:VEVENT
DTSTART;VALUE=DATE:20260427
DTEND;VALUE=DATE:20260428
DTSTAMP:20260425T152402
CREATED:20260413T072717Z
LAST-MODIFIED:20260413T072732Z
UID:18445-1777248000-1777334399@www.brecht-oberschule.de
SUMMARY:Chemie KA 9.13
DESCRIPTION:Bei Herrn Kronenberger
URL:https://www.brecht-oberschule.de/termin/chemie-ka-9-13
CATEGORIES:9. Jahrgang
END:VEVENT
BEGIN:VEVENT
DTSTART;VALUE=DATE:20260428
DTEND;VALUE=DATE:20260429
DTSTAMP:20260425T152402
CREATED:20260309T221413Z
LAST-MODIFIED:20260309T221413Z
UID:18131-1777334400-1777420799@www.brecht-oberschule.de
SUMMARY:Franz. 4.KA 7.12/13/14
DESCRIPTION:Französisch 7.1 (7.12\, 7.13\, 7.14)
URL:https://www.brecht-oberschule.de/termin/franz-4-ka-7-12-13-14
CATEGORIES:7. Jahrgang
END:VEVENT
BEGIN:VEVENT
DTSTART;VALUE=DATE:20260428
DTEND;VALUE=DATE:20260429
DTSTAMP:20260425T152402
CREATED:20260326T103350Z
LAST-MODIFIED:20260326T103350Z
UID:18317-1777334400-1777420799@www.brecht-oberschule.de
SUMMARY:Franz. Wahl-A  KA 8.2
DESCRIPTION:Bei Fr. Steger
URL:https://www.brecht-oberschule.de/termin/franz-wahl-a-ka-8-2
CATEGORIES:8. Jahrgang
END:VEVENT
BEGIN:VEVENT
DTSTART;VALUE=DATE:20260429
DTEND;VALUE=DATE:20260430
DTSTAMP:20260425T152402
CREATED:20260217T201615Z
LAST-MODIFIED:20260217T201615Z
UID:17869-1777420800-1777507199@www.brecht-oberschule.de
SUMMARY:MSA Mathe schriftlich
DESCRIPTION:
URL:https://www.brecht-oberschule.de/termin/msa-mathe-schriftlich
CATEGORIES:10. Jahrgang
END:VEVENT
BEGIN:VEVENT
DTSTART;VALUE=DATE:20260429
DTEND;VALUE=DATE:20260430
DTSTAMP:20260425T152402
CREATED:20260311T111320Z
LAST-MODIFIED:20260311T111320Z
UID:18160-1777420800-1777507199@www.brecht-oberschule.de
SUMMARY:Musik KA 8.11/14
DESCRIPTION:Bei Frau Tuinete
URL:https://www.brecht-oberschule.de/termin/musik-ka-8-11-14
CATEGORIES:8. Jahrgang
END:VEVENT
BEGIN:VEVENT
DTSTART;VALUE=DATE:20260430
DTEND;VALUE=DATE:20260501
DTSTAMP:20260425T152402
CREATED:20260227T201443Z
LAST-MODIFIED:20260419T215537Z
UID:18030-1777507200-1777593599@www.brecht-oberschule.de
SUMMARY:Physik LEK 9.24
DESCRIPTION:
URL:https://www.brecht-oberschule.de/termin/physik-lek-9-24-2
CATEGORIES:9. Jahrgang
END:VEVENT
BEGIN:VEVENT
DTSTART;VALUE=DATE:20260430
DTEND;VALUE=DATE:20260501
DTSTAMP:20260425T152402
CREATED:20260227T201518Z
LAST-MODIFIED:20260419T215546Z
UID:18032-1777507200-1777593599@www.brecht-oberschule.de
SUMMARY:Physik LEK 9.13
DESCRIPTION:
URL:https://www.brecht-oberschule.de/termin/physik-lek-9-13
CATEGORIES:9. Jahrgang
END:VEVENT
BEGIN:VEVENT
DTSTART;VALUE=DATE:20260430
DTEND;VALUE=DATE:20260501
DTSTAMP:20260425T152402
CREATED:20260304T202024Z
LAST-MODIFIED:20260304T202024Z
UID:18086-1777507200-1777593599@www.brecht-oberschule.de
SUMMARY:Politik LEK 10.13
DESCRIPTION:Bei Frau Sarikaya
URL:https://www.brecht-oberschule.de/termin/politik-lek-10-13
CATEGORIES:10. Jahrgang
END:VEVENT
BEGIN:VEVENT
DTSTART;VALUE=DATE:20260430
DTEND;VALUE=DATE:20260501
DTSTAMP:20260425T152402
CREATED:20260324T222123Z
LAST-MODIFIED:20260324T222225Z
UID:18285-1777507200-1777593599@www.brecht-oberschule.de
SUMMARY:Geo Wahl-B KA 9.1
DESCRIPTION:bei Fr. Hegewald
URL:https://www.brecht-oberschule.de/termin/geo-wahl-b-ka-9-1
CATEGORIES:9. Jahrgang
END:VEVENT
BEGIN:VEVENT
DTSTART;VALUE=DATE:20260430
DTEND;VALUE=DATE:20260501
DTSTAMP:20260425T152402
CREATED:20260326T224512Z
LAST-MODIFIED:20260326T224512Z
UID:18328-1777507200-1777593599@www.brecht-oberschule.de
SUMMARY:Physik LEK 8.24
DESCRIPTION:Bei Fr. Eyler
URL:https://www.brecht-oberschule.de/termin/physik-lek-8-24-2
CATEGORIES:8. Jahrgang
END:VEVENT
BEGIN:VEVENT
DTSTART;VALUE=DATE:20260430
DTEND;VALUE=DATE:20260501
DTSTAMP:20260425T152402
CREATED:20260326T224518Z
LAST-MODIFIED:20260326T224518Z
UID:18321-1777507200-1777593599@www.brecht-oberschule.de
SUMMARY:Physik LEK 7.13
DESCRIPTION:Bei Fr. Eyler
URL:https://www.brecht-oberschule.de/termin/physik-lek-7-13-2
CATEGORIES:7. Jahrgang
END:VEVENT
END:VCALENDAR